BEGIN:VCALENDAR
VERSION:2.0
PRODID:-//Milton Malsor Parish Council//Meeting Calendar//EN
CALSCALE:GREGORIAN
METHOD:PUBLISH
BEGIN:VEVENT
UID:70562-20220510@miltonmalsorparishcouncil.gov.uk
DTSTAMP:20260420T125008Z
DTSTART;VALUE=DATE:20220510
DTEND;VALUE=DATE:20220511
SUMMARY:Annual Parish Meeting &#8211\\; 10 May 2022
DESCRIPTION:Annual Parish Meeting\nView details: https://miltonmalsorparishcouncil.gov.uk/meetings/annual-parish-meeting-10-may-2022/
URL:https://miltonmalsorparishcouncil.gov.uk/meetings/annual-parish-meeting-10-may-2022/
END:VEVENT
END:VCALENDAR
